BEGIN:VCALENDAR
VERSION:2.0
PRODID:-//pretix//pretix.eu//
BEGIN:VTIMEZONE
TZID:Asia/Riyadh
BEGIN:STANDARD
DTSTART:20000101T000000
RRULE:FREQ=YEARLY;BYMONTH=1
TZNAME:+03
TZOFFSETFROM:+0300
TZOFFSETTO:+0300
END:STANDARD
END:VTIMEZONE
BEGIN:VEVENT
UID:pretix-coreach-events-kapsarc-0@event.coreach.co
DTSTART;TZID=Asia/Riyadh:20241024T100000
DTEND;TZID=Asia/Riyadh:20241024T150000
DESCRIPTION:Tickets: https://event.coreach.co/kapsarc/\nOrganizer: coREACH
DTSTAMP:20260419T175536Z
LOCATION:King Abdullah Petroleum Studies and Research Center
SUMMARY:KAPSARC
END:VEVENT
END:VCALENDAR
